BEGIN:VCALENDAR
VERSION:2.0
PRODID:-//Berean Assembly - ECPv6.0.8//NONSGML v1.0//EN
CALSCALE:GREGORIAN
METHOD:PUBLISH
X-WR-CALNAME:Berean Assembly
X-ORIGINAL-URL:https://bereanassembly.penpubwebs.com
X-WR-CALDESC:Events for Berean Assembly
REFRESH-INTERVAL;VALUE=DURATION:PT1H
X-Robots-Tag:noindex
X-PUBLISHED-TTL:PT1H
BEGIN:VTIMEZONE
TZID:America/New_York
BEGIN:DAYLIGHT
TZOFFSETFROM:-0500
TZOFFSETTO:-0400
TZNAME:EDT
DTSTART:20220313T070000
END:DAYLIGHT
BEGIN:STANDARD
TZOFFSETFROM:-0400
TZOFFSETTO:-0500
TZNAME:EST
DTSTART:20221106T060000
END:STANDARD
END:VTIMEZONE
BEGIN:VEVENT
DTSTART;VALUE=DATE:20220609
DTEND;VALUE=DATE:20220613
DTSTAMP:20260423T045510
CREATED:20220517T120143Z
LAST-MODIFIED:20220517T121735Z
UID:296-1654732800-1655078399@bereanassembly.penpubwebs.com
SUMMARY:The Larson
DESCRIPTION:Loren\n						\n					\n				\n			\n			\n				\n				\n				\n				\n				\n				\n				\n				\n				\n				\n					\n					\n						Joseph\n						\n					\n				\n			\n			\n				\n				\n				\n				\n				\n				\n				\n				\n				\n				\n					\n					\n						Grace
URL:https://bereanassembly.penpubwebs.com/calendar-event/the-larson/
END:VEVENT
END:VCALENDAR